BEGIN:VCALENDAR
VERSION:2.0
PRODID:-//LEO Network//Training Calendar//EN
BEGIN:VEVENT
UID:event-10099@leo-network.com
DTSTAMP:20260422T102144Z
DTSTART:20260309T150000Z
DTEND:20260310T000000Z
SUMMARY:Managing Critical Incidents
DESCRIPTION:Law Enforcement Training
Hosted by: Weld County Sheriff&apos;s Office

View event details:
https://www.leo-network.com/event/managing-critical-incidents-greeley-co-10099/
LOCATION:Greeley, CO
URL:https://www.leo-network.com/event/managing-critical-incidents-greeley-co-10099/
END:VEVENT
END:VCALENDAR
