BEGIN:VCALENDAR
VERSION:2.0
PRODID:-//LEO Network//Training Calendar//EN
BEGIN:VEVENT
UID:event-10100@leo-network.com
DTSTAMP:20260422T102219Z
DTSTART:20260310T150000Z
DTEND:20260312T000000Z
SUMMARY:Supervising Patrol Critical Incidents
DESCRIPTION:Law Enforcement Training
Hosted by: Weld County Sheriff&apos;s Office

View event details:
https://www.leo-network.com/event/supervising-patrol-critical-incidents-greeley-co-10100/
LOCATION:Greeley, CO
URL:https://www.leo-network.com/event/supervising-patrol-critical-incidents-greeley-co-10100/
END:VEVENT
END:VCALENDAR
