BEGIN:VCALENDAR
VERSION:2.0
PRODID:-//LEO Network//Training Calendar//EN
BEGIN:VEVENT
UID:event-10232@leo-network.com
DTSTAMP:20260422T094804Z
DTSTART:20260601T150000Z
DTEND:20260602T000000Z
SUMMARY:Pro-Active Patrol - Criminal Interdiction - Texas Specific
DESCRIPTION:Law Enforcement Training
Hosted by: Dynamic Police Training

View event details:
https://www.leo-network.com/event/pro-active-patrol-criminal-interdiction-texas-specific-irving-tx-10232/
LOCATION:Irving, TX
URL:https://www.leo-network.com/event/pro-active-patrol-criminal-interdiction-texas-specific-irving-tx-10232/
END:VEVENT
END:VCALENDAR
