BEGIN:VCALENDAR
VERSION:2.0
PRODID:-//LEO Network//Training Calendar//EN
BEGIN:VEVENT
UID:event-10236@leo-network.com
DTSTAMP:20260420T014122Z
DTSTART:20260925T150000Z
DTEND:20260926T000000Z
SUMMARY:Case Law for Cops: Motor Vehicle Stops & Searches
DESCRIPTION:Law Enforcement Training
Hosted by: Bloodgood Law Enforcement Training Group 

View event details:
https://www.leo-network.com/event/case-law-for-cops-motor-vehicle-stops-searches-mahwah-nj-10236/
LOCATION:Mahwah, NJ
URL:https://www.leo-network.com/event/case-law-for-cops-motor-vehicle-stops-searches-mahwah-nj-10236/
END:VEVENT
END:VCALENDAR
