BEGIN:VCALENDAR
VERSION:2.0
PRODID:-//LEO Network//Training Calendar//EN
BEGIN:VEVENT
UID:event-10237@leo-network.com
DTSTAMP:20260419T223755Z
DTSTART:20261020T150000Z
DTEND:20261021T000000Z
SUMMARY:Practical Criminal Law for Patrol Officers
DESCRIPTION:Law Enforcement Training
Hosted by: Bloodgood Law Enforcement Training Group 

View event details:
https://www.leo-network.com/event/practical-criminal-law-for-patrol-officers-mahwah-nj-10237/
LOCATION:Mahwah, NJ
URL:https://www.leo-network.com/event/practical-criminal-law-for-patrol-officers-mahwah-nj-10237/
END:VEVENT
END:VCALENDAR
