BEGIN:VCALENDAR
VERSION:2.0
PRODID:-//LEO Network//Training Calendar//EN
BEGIN:VEVENT
UID:event-10238@leo-network.com
DTSTAMP:20260420T042010Z
DTSTART:20260613T150000Z
DTEND:20260618T000000Z
SUMMARY:K9 Person Borne Firearms Detection Course
DESCRIPTION:Law Enforcement Training
Hosted by: Florida\'s Forensic Institute For Research, Security, and Tactics (F.1.R.S.T)

View event details:
https://www.leo-network.com/event/k9-person-borne-firearms-detection-course-land-o-lakes-fl-10238/
LOCATION:Land O\'Lakes, FL
URL:https://www.leo-network.com/event/k9-person-borne-firearms-detection-course-land-o-lakes-fl-10238/
END:VEVENT
END:VCALENDAR
