BEGIN:VCALENDAR
VERSION:2.0
PRODID:-//LEO Network//Training Calendar//EN
BEGIN:VEVENT
UID:event-10239@leo-network.com
DTSTAMP:20260420T024550Z
DTSTART:20260429T150000Z
DTEND:20260501T000000Z
SUMMARY:Interstate Criminal Interdiction
DESCRIPTION:Law Enforcement Training
Hosted by: Florida\'s Forensic Institute For Research, Security, and Tactics (F.1.R.S.T)

View event details:
https://www.leo-network.com/event/interstate-criminal-interdiction-land-o-lakes-fl-10239/
LOCATION:Land O\'Lakes, FL
URL:https://www.leo-network.com/event/interstate-criminal-interdiction-land-o-lakes-fl-10239/
END:VEVENT
END:VCALENDAR
