BEGIN:VCALENDAR
VERSION:2.0
PRODID:-//LEO Network//Training Calendar//EN
BEGIN:VEVENT
UID:event-10242@leo-network.com
DTSTAMP:20260422T102744Z
DTSTART:20270121T160000Z
DTEND:20270123T010000Z
SUMMARY:Behavioral Analysis: Six Channel System
DESCRIPTION:Law Enforcement Training
Hosted by: ONEFACE LLC

View event details:
https://www.leo-network.com/event/behavioral-analysis-six-channel-system-emporia-ks-10242/
LOCATION:Emporia, KS
URL:https://www.leo-network.com/event/behavioral-analysis-six-channel-system-emporia-ks-10242/
END:VEVENT
END:VCALENDAR
