BEGIN:VCALENDAR
VERSION:2.0
PRODID:-//LEO Network//Training Calendar//EN
BEGIN:VEVENT
UID:event-10243@leo-network.com
DTSTAMP:20260421T190144Z
DTSTART:20260929T150000Z
DTEND:20260902T000000Z
SUMMARY:Analyzing Criminal Behavior
DESCRIPTION:Law Enforcement Training
Hosted by: Bridgerland Technical College

View event details:
https://www.leo-network.com/event/analyzing-criminal-behavior-logan-ut-10243/
LOCATION:Logan, UT
URL:https://www.leo-network.com/event/analyzing-criminal-behavior-logan-ut-10243/
END:VEVENT
END:VCALENDAR
