BEGIN:VCALENDAR
VERSION:2.0
PRODID:-//LEO Network//Training Calendar//EN
BEGIN:VEVENT
UID:event-10244@leo-network.com
DTSTAMP:20260421T180828Z
DTSTART:20261207T160000Z
DTEND:20261208T010000Z
SUMMARY:Auto Theft & Vehicle Crimes
DESCRIPTION:Law Enforcement Training
Hosted by: Bridgerland Technical College

View event details:
https://www.leo-network.com/event/auto-theft-vehicle-crimes-logan-ut-10244/
LOCATION:Logan, UT
URL:https://www.leo-network.com/event/auto-theft-vehicle-crimes-logan-ut-10244/
END:VEVENT
END:VCALENDAR
