BEGIN:VCALENDAR
VERSION:2.0
PRODID:-//LEO Network//Training Calendar//EN
BEGIN:VEVENT
UID:event-10245@leo-network.com
DTSTAMP:20260421T192649Z
DTSTART:20260914T150000Z
DTEND:20260917T000000Z
SUMMARY:Basic Field Training Officer (FTO)
DESCRIPTION:Law Enforcement Training
Hosted by: Bridgerland Technical College

View event details:
https://www.leo-network.com/event/basic-field-training-officer-fto-logan-ut-10245/
LOCATION:Logan, UT
URL:https://www.leo-network.com/event/basic-field-training-officer-fto-logan-ut-10245/
END:VEVENT
END:VCALENDAR
