BEGIN:VCALENDAR
VERSION:2.0
PRODID:-//LEO Network//Training Calendar//EN
BEGIN:VEVENT
UID:event-10246@leo-network.com
DTSTAMP:20260422T202009Z
DTSTART:20261005T150000Z
DTEND:20261007T000000Z
SUMMARY:Mastering Interview and Interrogation
DESCRIPTION:Law Enforcement Training
Hosted by: Take It To The Streets

View event details:
https://www.leo-network.com/event/mastering-interview-and-interrogation-daphne-al-10246/
LOCATION:Daphne, AL
URL:https://www.leo-network.com/event/mastering-interview-and-interrogation-daphne-al-10246/
END:VEVENT
END:VCALENDAR
