BEGIN:VCALENDAR
VERSION:2.0
PRODID:-//LEO Network//Training Calendar//EN
BEGIN:VEVENT
UID:event-10249@leo-network.com
DTSTAMP:20260424T142350Z
DTSTART:20260515T150000Z
DTEND:20260516T000000Z
SUMMARY:Covert Physical Surveillance - 1 Day
DESCRIPTION:Law Enforcement Training
Hosted by: Joint Tactical Consulting

View event details:
https://www.leo-network.com/event/covert-physical-surveillance-1-day-los-angeles-ca-10249/
LOCATION:Los Angeles, CA
URL:https://www.leo-network.com/event/covert-physical-surveillance-1-day-los-angeles-ca-10249/
END:VEVENT
END:VCALENDAR
