BEGIN:VCALENDAR
VERSION:2.0
PRODID:-//LEO Network//Training Calendar//EN
BEGIN:VEVENT
UID:event-10253@leo-network.com
DTSTAMP:20260425T194210Z
DTSTART:20260714T150000Z
DTEND:20260715T000000Z
SUMMARY:Confidential Informants; Develop/Manage
DESCRIPTION:Law Enforcement Training
Hosted by: BS Narcotics

View event details:
https://www.leo-network.com/event/confidential-informants-develop-manage-aurora-il-10253/
LOCATION:Aurora, IL
URL:https://www.leo-network.com/event/confidential-informants-develop-manage-aurora-il-10253/
END:VEVENT
END:VCALENDAR
