BEGIN:VCALENDAR
VERSION:2.0
PRODID:-//LEO Network//Training Calendar//EN
BEGIN:VEVENT
UID:event-10254@leo-network.com
DTSTAMP:20260425T231935Z
DTSTART:20260715T150000Z
DTEND:20260717T000000Z
SUMMARY:Prostitution Operations
DESCRIPTION:Law Enforcement Training
Hosted by: BS Narcotics

View event details:
https://www.leo-network.com/event/prostitution-operations-aurora-il-10254/
LOCATION:Aurora, IL
URL:https://www.leo-network.com/event/prostitution-operations-aurora-il-10254/
END:VEVENT
END:VCALENDAR
