BEGIN:VCALENDAR
VERSION:2.0
PRODID:-//LEO Network//Training Calendar//EN
BEGIN:VEVENT
UID:event-1029@leo-network.com
DTSTAMP:20260419T155931Z
DTSTART:20230512T150000Z
DTEND:20230513T000000Z
SUMMARY:IVORY TOWER
DESCRIPTION:Law Enforcement Training
Hosted by: Captain Tom Rizzo Presents Ivory Tower

View event details:
https://www.leo-network.com/event/ivory-tower-saint-cloud-mn-1029/
LOCATION:Saint Cloud, MN
URL:https://www.leo-network.com/event/ivory-tower-saint-cloud-mn-1029/
END:VEVENT
END:VCALENDAR
