BEGIN:VCALENDAR
VERSION:2.0
PRODID:-//LEO Network//Training Calendar//EN
BEGIN:VEVENT
UID:event-1030@leo-network.com
DTSTAMP:20260419T150326Z
DTSTART:20230519T150000Z
DTEND:20230520T000000Z
SUMMARY:IVORY TOWER
DESCRIPTION:Law Enforcement Training
Hosted by: Captain Tom Rizzo Presents Ivory Tower

View event details:
https://www.leo-network.com/event/ivory-tower-east-rutherford-nj-1030/
LOCATION:East Rutherford, NJ
URL:https://www.leo-network.com/event/ivory-tower-east-rutherford-nj-1030/
END:VEVENT
END:VCALENDAR
