BEGIN:VCALENDAR
VERSION:2.0
PRODID:-//LEO Network//Training Calendar//EN
BEGIN:VEVENT
UID:event-1032@leo-network.com
DTSTAMP:20260422T155030Z
DTSTART:20230609T150000Z
DTEND:20230610T000000Z
SUMMARY:IVORY TOWER
DESCRIPTION:Law Enforcement Training
Hosted by: Captain Tom Rizzo Presents Ivory Tower

View event details:
https://www.leo-network.com/event/ivory-tower-madisonville-ky-1032/
LOCATION:Madisonville, KY
URL:https://www.leo-network.com/event/ivory-tower-madisonville-ky-1032/
END:VEVENT
END:VCALENDAR
