BEGIN:VCALENDAR
VERSION:2.0
PRODID:-//LEO Network//Training Calendar//EN
BEGIN:VEVENT
UID:event-1033@leo-network.com
DTSTAMP:20260419T154745Z
DTSTART:20230623T150000Z
DTEND:20230624T000000Z
SUMMARY:IVORY TOWER
DESCRIPTION:Law Enforcement Training
Hosted by: Captain Tom Rizzo Presents Ivory Tower

View event details:
https://www.leo-network.com/event/ivory-tower-bellaire-tx-1033/
LOCATION:Bellaire, TX
URL:https://www.leo-network.com/event/ivory-tower-bellaire-tx-1033/
END:VEVENT
END:VCALENDAR
