BEGIN:VCALENDAR
VERSION:2.0
PRODID:-//LEO Network//Training Calendar//EN
BEGIN:VEVENT
UID:event-1034@leo-network.com
DTSTAMP:20260419T185312Z
DTSTART:20230630T150000Z
DTEND:20230701T000000Z
SUMMARY:IVORY TOWER
DESCRIPTION:Law Enforcement Training
Hosted by: Captain Tom Rizzo Presents Ivory Tower

View event details:
https://www.leo-network.com/event/ivory-tower-hancock-county-in-1034/
LOCATION:Hancock County, IN
URL:https://www.leo-network.com/event/ivory-tower-hancock-county-in-1034/
END:VEVENT
END:VCALENDAR
