BEGIN:VCALENDAR
VERSION:2.0
PRODID:-//LEO Network//Training Calendar//EN
BEGIN:VEVENT
UID:event-10377@leo-network.com
DTSTAMP:20260419T192129Z
DTSTART:20260601T150000Z
DTEND:20260602T000000Z
SUMMARY:Patrol Tactics 201 Series TCOLE# 3300
DESCRIPTION:Law Enforcement Training
Hosted by: Elite T.W.O. Tactical Weapons &amp; Operations

View event details:
https://www.leo-network.com/event/patrol-tactics-201-series-tcole-3300-fulshear-tx-10377/
LOCATION:Fulshear, TX
URL:https://www.leo-network.com/event/patrol-tactics-201-series-tcole-3300-fulshear-tx-10377/
END:VEVENT
END:VCALENDAR
