BEGIN:VCALENDAR
VERSION:2.0
PRODID:-//LEO Network//Training Calendar//EN
BEGIN:VEVENT
UID:event-10378@leo-network.com
DTSTAMP:20260419T192130Z
DTSTART:20260602T150000Z
DTEND:20260603T000000Z
SUMMARY:Vehicle Tactics 201 Series
DESCRIPTION:Law Enforcement Training
Hosted by: Elite T.W.O. Tactical Weapons &amp; Operations

View event details:
https://www.leo-network.com/event/vehicle-tactics-201-series-fulshear-tx-10378/
LOCATION:Fulshear, TX
URL:https://www.leo-network.com/event/vehicle-tactics-201-series-fulshear-tx-10378/
END:VEVENT
END:VCALENDAR
