BEGIN:VCALENDAR
VERSION:2.0
PRODID:-//LEO Network//Training Calendar//EN
BEGIN:VEVENT
UID:event-10379@leo-network.com
DTSTAMP:20260419T192129Z
DTSTART:20260604T150000Z
DTEND:20260605T000000Z
SUMMARY:Moving and Shooting TCOLE# 3342
DESCRIPTION:Law Enforcement Training
Hosted by: Elite T.W.O. Tactical Weapons &amp; Operations

View event details:
https://www.leo-network.com/event/moving-and-shooting-tcole-3342-fulshear-tx-10379/
LOCATION:Fulshear, TX
URL:https://www.leo-network.com/event/moving-and-shooting-tcole-3342-fulshear-tx-10379/
END:VEVENT
END:VCALENDAR
