BEGIN:VCALENDAR
VERSION:2.0
PRODID:-//LEO Network//Training Calendar//EN
BEGIN:VEVENT
UID:event-10380@leo-network.com
DTSTAMP:20260419T192119Z
DTSTART:20260605T150000Z
DTEND:20260606T000000Z
SUMMARY:CQB Room Clearing 201 TCOLE 3823
DESCRIPTION:Law Enforcement Training
Hosted by: Elite T.W.O. Tactical Weapons &amp; Operations

View event details:
https://www.leo-network.com/event/cqb-room-clearing-201-tcole-3823-fulshear-tx-10380/
LOCATION:Fulshear, TX
URL:https://www.leo-network.com/event/cqb-room-clearing-201-tcole-3823-fulshear-tx-10380/
END:VEVENT
END:VCALENDAR
