BEGIN:VCALENDAR
VERSION:2.0
PRODID:-//LEO Network//Training Calendar//EN
BEGIN:VEVENT
UID:event-10381@leo-network.com
DTSTAMP:20260419T192119Z
DTSTART:20260603T150000Z
DTEND:20260604T000000Z
SUMMARY:Vehicle Tactics AR 201 Series TCOLE 3342
DESCRIPTION:Law Enforcement Training
Hosted by: Elite T.W.O. Tactical Weapons &amp; Operations

View event details:
https://www.leo-network.com/event/vehicle-tactics-ar-201-series-tcole-3342-fulshear-tx-10381/
LOCATION:Fulshear, TX
URL:https://www.leo-network.com/event/vehicle-tactics-ar-201-series-tcole-3342-fulshear-tx-10381/
END:VEVENT
END:VCALENDAR
