BEGIN:VCALENDAR
VERSION:2.0
PRODID:-//LEO Network//Training Calendar//EN
BEGIN:VEVENT
UID:event-10382@leo-network.com
DTSTAMP:20260421T185929Z
DTSTART:20260907T150000Z
DTEND:20260909T000000Z
SUMMARY:Structured Data Analysis for Investigators - Excel & SqLite in Practice
DESCRIPTION:Law Enforcement Training
Hosted by: Hi-Tech Investigations

View event details:
https://www.leo-network.com/event/structured-data-analysis-for-investigators-excel-sqlite-in-practice-online-10382/
LOCATION:NA, OL
URL:https://www.leo-network.com/event/structured-data-analysis-for-investigators-excel-sqlite-in-practice-online-10382/
END:VEVENT
END:VCALENDAR
