BEGIN:VCALENDAR
VERSION:2.0
PRODID:-//LEO Network//Training Calendar//EN
BEGIN:VEVENT
UID:event-10384@leo-network.com
DTSTAMP:20260422T005914Z
DTSTART:20260727T150000Z
DTEND:20260729T000000Z
SUMMARY:TrapMate
DESCRIPTION:Law Enforcement Training
Hosted by: Dynamic Police Training

View event details:
https://www.leo-network.com/event/trapmate-wharton-tx-10384/
LOCATION:Wharton, TX
URL:https://www.leo-network.com/event/trapmate-wharton-tx-10384/
END:VEVENT
END:VCALENDAR
