BEGIN:VCALENDAR
VERSION:2.0
PRODID:-//LEO Network//Training Calendar//EN
BEGIN:VEVENT
UID:event-10385@leo-network.com
DTSTAMP:20260422T071153Z
DTSTART:20260501T150000Z
DTEND:20260502T000000Z
SUMMARY:Low Light Pistol I TCOLE# 3327
DESCRIPTION:Law Enforcement Training
Hosted by: Elite T.W.O. Tactical Weapons &amp; Operations

View event details:
https://www.leo-network.com/event/low-light-pistol-i-tcole-3327-fulshear-tx-10385/
LOCATION:Fulshear, TX
URL:https://www.leo-network.com/event/low-light-pistol-i-tcole-3327-fulshear-tx-10385/
END:VEVENT
END:VCALENDAR
