BEGIN:VCALENDAR
VERSION:2.0
PRODID:-//LEO Network//Training Calendar//EN
BEGIN:VEVENT
UID:event-10387@leo-network.com
DTSTAMP:20260422T071231Z
DTSTART:20260508T150000Z
DTEND:20260509T000000Z
SUMMARY:Low Light Pistol I TCOLE# 3327
DESCRIPTION:Law Enforcement Training
Hosted by: Elite T.W.O. Tactical Weapons &amp; Operations

View event details:
https://www.leo-network.com/event/low-light-pistol-i-tcole-3327-fulshear-tx-10387/
LOCATION:Fulshear, TX
URL:https://www.leo-network.com/event/low-light-pistol-i-tcole-3327-fulshear-tx-10387/
END:VEVENT
END:VCALENDAR
