BEGIN:VCALENDAR
VERSION:2.0
PRODID:-//LEO Network//Training Calendar//EN
BEGIN:VEVENT
UID:event-10389@leo-network.com
DTSTAMP:20260422T184024Z
DTSTART:20260422T150000Z
DTEND:20260423T000000Z
SUMMARY:Auto Theft & Vehicle Crimes w/ Ric Barber
DESCRIPTION:Law Enforcement Training
Hosted by: Underworld LLC

View event details:
https://www.leo-network.com/event/auto-theft-vehicle-crimes-w-ric-barber-steamboat-springs-co-10389/
LOCATION:Steamboat Springs, CO
URL:https://www.leo-network.com/event/auto-theft-vehicle-crimes-w-ric-barber-steamboat-springs-co-10389/
END:VEVENT
END:VCALENDAR
