BEGIN:VCALENDAR
VERSION:2.0
PRODID:-//LEO Network//Training Calendar//EN
BEGIN:VEVENT
UID:event-10390@leo-network.com
DTSTAMP:20260423T073304Z
DTSTART:19991130T160000Z
DTEND:19991201T010000Z
SUMMARY:Multi-topic In-Service Training for Officers
DESCRIPTION:Law Enforcement Training
Hosted by: Moyars Consulting

View event details:
https://www.leo-network.com/event/multi-topic-in-service-training-for-officers-on-demand-10390/
LOCATION:ONLINE, OD
URL:https://www.leo-network.com/event/multi-topic-in-service-training-for-officers-on-demand-10390/
END:VEVENT
END:VCALENDAR
