BEGIN:VCALENDAR
VERSION:2.0
PRODID:-//LEO Network//Training Calendar//EN
BEGIN:VEVENT
UID:event-10391@leo-network.com
DTSTAMP:20260423T211158Z
DTSTART:20260427T150000Z
DTEND:20260428T000000Z
SUMMARY:Auto Theft & Vehicle Crimes w/ Ric Barber
DESCRIPTION:Law Enforcement Training
Hosted by: Underworld LLC

View event details:
https://www.leo-network.com/event/auto-theft-vehicle-crimes-w-ric-barber-kingsville-tx-10391/
LOCATION:Kingsville, TX
URL:https://www.leo-network.com/event/auto-theft-vehicle-crimes-w-ric-barber-kingsville-tx-10391/
END:VEVENT
END:VCALENDAR
