BEGIN:VCALENDAR
VERSION:2.0
PRODID:-//LEO Network//Training Calendar//EN
BEGIN:VEVENT
UID:event-10395@leo-network.com
DTSTAMP:20260424T070007Z
DTSTART:20260615T150000Z
DTEND:20260620T000000Z
SUMMARY:Evolution of an Operator 5 Day TCOLE# 3823
DESCRIPTION:Law Enforcement Training
Hosted by: Elite T.W.O. Tactical Weapons &amp; Operations

View event details:
https://www.leo-network.com/event/evolution-of-an-operator-5-day-tcole-3823-fulshear-tx-10395/
LOCATION:Fulshear, TX
URL:https://www.leo-network.com/event/evolution-of-an-operator-5-day-tcole-3823-fulshear-tx-10395/
END:VEVENT
END:VCALENDAR
