BEGIN:VCALENDAR
VERSION:2.0
PRODID:-//LEO Network//Training Calendar//EN
BEGIN:VEVENT
UID:event-1154@leo-network.com
DTSTAMP:20260419T180606Z
DTSTART:20230522T150000Z
DTEND:20230523T000000Z
SUMMARY:Drug Identification, Paraphernalia and the Motor Vehicle Stop
DESCRIPTION:Law Enforcement Training
Hosted by: Training Provider

View event details:
https://www.leo-network.com/event/drug-identification-paraphernalia-and-the-motor-vehicle-stop-east-windsor-nj-1154/
LOCATION:East Windsor, NJ
URL:https://www.leo-network.com/event/drug-identification-paraphernalia-and-the-motor-vehicle-stop-east-windsor-nj-1154/
END:VEVENT
END:VCALENDAR
