BEGIN:VCALENDAR
VERSION:2.0
PRODID:-//LEO Network//Training Calendar//EN
BEGIN:VEVENT
UID:event-1156@leo-network.com
DTSTAMP:20260419T180543Z
DTSTART:20230303T160000Z
DTEND:20230304T010000Z
SUMMARY:Deceptive Behaviors & Hidden Compartments
DESCRIPTION:Law Enforcement Training
Hosted by: Street Cop Training

View event details:
https://www.leo-network.com/event/deceptive-behaviors-hidden-compartments-east-windsor-nj-1156/
LOCATION:East Windsor, NJ
URL:https://www.leo-network.com/event/deceptive-behaviors-hidden-compartments-east-windsor-nj-1156/
END:VEVENT
END:VCALENDAR
