BEGIN:VCALENDAR
VERSION:2.0
PRODID:-//LEO Network//Training Calendar//EN
BEGIN:VEVENT
UID:event-1170@leo-network.com
DTSTAMP:20260419T180722Z
DTSTART:20230316T150000Z
DTEND:20230317T000000Z
SUMMARY:Unmasking Facial Expressions
DESCRIPTION:Law Enforcement Training
Hosted by: Street Cop Training

View event details:
https://www.leo-network.com/event/unmasking-facial-expressions-pass-christian-ms-1170/
LOCATION:Pass Christian, MS
URL:https://www.leo-network.com/event/unmasking-facial-expressions-pass-christian-ms-1170/
END:VEVENT
END:VCALENDAR
