BEGIN:VCALENDAR
VERSION:2.0
PRODID:-//LEO Network//Training Calendar//EN
BEGIN:VEVENT
UID:event-1171@leo-network.com
DTSTAMP:20260419T180538Z
DTSTART:20230317T150000Z
DTEND:20230318T000000Z
SUMMARY:Body Language for Law Enforcement
DESCRIPTION:Law Enforcement Training
Hosted by: Street Cop Training

View event details:
https://www.leo-network.com/event/body-language-for-law-enforcement-pass-christian-ms-1171/
LOCATION:Pass Christian, MS
URL:https://www.leo-network.com/event/body-language-for-law-enforcement-pass-christian-ms-1171/
END:VEVENT
END:VCALENDAR
