BEGIN:VCALENDAR
VERSION:2.0
PRODID:-//LEO Network//Training Calendar//EN
BEGIN:VEVENT
UID:event-1176@leo-network.com
DTSTAMP:20260423T115135Z
DTSTART:20230330T150000Z
DTEND:20230331T000000Z
SUMMARY:Unmasking Facial Expressions
DESCRIPTION:Law Enforcement Training
Hosted by: Street Cop Training

View event details:
https://www.leo-network.com/event/unmasking-facial-expressions-gastonia-nc-1176/
LOCATION:Gastonia, NC
URL:https://www.leo-network.com/event/unmasking-facial-expressions-gastonia-nc-1176/
END:VEVENT
END:VCALENDAR
