BEGIN:VCALENDAR
VERSION:2.0
PRODID:-//LEO Network//Training Calendar//EN
BEGIN:VEVENT
UID:event-1177@leo-network.com
DTSTAMP:20260423T115144Z
DTSTART:20230331T150000Z
DTEND:20230401T000000Z
SUMMARY:Body Language for Law Enforcement
DESCRIPTION:Law Enforcement Training
Hosted by: Street Cop Training

View event details:
https://www.leo-network.com/event/body-language-for-law-enforcement-gastonia-nc-1177/
LOCATION:Gastonia, NC
URL:https://www.leo-network.com/event/body-language-for-law-enforcement-gastonia-nc-1177/
END:VEVENT
END:VCALENDAR
