BEGIN:VCALENDAR
VERSION:2.0
PRODID:-//LEO Network//Training Calendar//EN
BEGIN:VEVENT
UID:event-1208@leo-network.com
DTSTAMP:20260422T161444Z
DTSTART:20231108T160000Z
DTEND:20231109T010000Z
SUMMARY:Unmasking Facial Expressions
DESCRIPTION:Law Enforcement Training
Hosted by: Street Cop Training

View event details:
https://www.leo-network.com/event/unmasking-facial-expressions-valley-center-ks-1208/
LOCATION:Valley Center, KS
URL:https://www.leo-network.com/event/unmasking-facial-expressions-valley-center-ks-1208/
END:VEVENT
END:VCALENDAR
