BEGIN:VCALENDAR
VERSION:2.0
PRODID:-//LEO Network//Training Calendar//EN
BEGIN:VEVENT
UID:event-1209@leo-network.com
DTSTAMP:20260422T172944Z
DTSTART:20231109T160000Z
DTEND:20231110T010000Z
SUMMARY:Body Language for Law Enforcement
DESCRIPTION:Law Enforcement Training
Hosted by: Street Cop Training

View event details:
https://www.leo-network.com/event/body-language-for-law-enforcement-valley-center-ks-1209/
LOCATION:Valley Center, KS
URL:https://www.leo-network.com/event/body-language-for-law-enforcement-valley-center-ks-1209/
END:VEVENT
END:VCALENDAR
