BEGIN:VCALENDAR
VERSION:2.0
PRODID:-//LEO Network//Training Calendar//EN
BEGIN:VEVENT
UID:event-1211@leo-network.com
DTSTAMP:20260422T173103Z
DTSTART:20231116T160000Z
DTEND:20231117T010000Z
SUMMARY:Body Language for Law Enforcement
DESCRIPTION:Law Enforcement Training
Hosted by: Street Cop Training

View event details:
https://www.leo-network.com/event/body-language-for-law-enforcement-oklahoma-city-ok-1211/
LOCATION:Oklahoma City, OK
URL:https://www.leo-network.com/event/body-language-for-law-enforcement-oklahoma-city-ok-1211/
END:VEVENT
END:VCALENDAR
