BEGIN:VCALENDAR
VERSION:2.0
PRODID:-//LEO Network//Training Calendar//EN
BEGIN:VEVENT
UID:event-1229@leo-network.com
DTSTAMP:20260419T175337Z
DTSTART:20230606T150000Z
DTEND:20230607T000000Z
SUMMARY:Interdiction Mastermind 
DESCRIPTION:Law Enforcement Training
Hosted by: Street Cop Training

View event details:
https://www.leo-network.com/event/interdiction-mastermind-east-rutherford-nj-1229/
LOCATION:East Rutherford , NJ
URL:https://www.leo-network.com/event/interdiction-mastermind-east-rutherford-nj-1229/
END:VEVENT
END:VCALENDAR
