BEGIN:VCALENDAR
VERSION:2.0
PRODID:-//LEO Network//Training Calendar//EN
BEGIN:VEVENT
UID:event-1230@leo-network.com
DTSTAMP:20260421T001454Z
DTSTART:20231204T160000Z
DTEND:20231205T010000Z
SUMMARY:Interdiction Mastermind
DESCRIPTION:Law Enforcement Training
Hosted by: Street Cop Training

View event details:
https://www.leo-network.com/event/interdiction-mastermind-summerville-sc-1230/
LOCATION:Summerville, SC
URL:https://www.leo-network.com/event/interdiction-mastermind-summerville-sc-1230/
END:VEVENT
END:VCALENDAR
