BEGIN:VCALENDAR
VERSION:2.0
PRODID:-//LEO Network//Training Calendar//EN
BEGIN:VEVENT
UID:event-1236@leo-network.com
DTSTAMP:20260419T223232Z
DTSTART:20230807T150000Z
DTEND:20230808T000000Z
SUMMARY:Social Media and Open Source Investigations
DESCRIPTION:Law Enforcement Training
Hosted by: Street Cop Training

View event details:
https://www.leo-network.com/event/social-media-and-open-source-investigations-hobart-in-1236/
LOCATION:Hobart, IN
URL:https://www.leo-network.com/event/social-media-and-open-source-investigations-hobart-in-1236/
END:VEVENT
END:VCALENDAR
