BEGIN:VCALENDAR
VERSION:2.0
PRODID:-//LEO Network//Training Calendar//EN
BEGIN:VEVENT
UID:event-1243@leo-network.com
DTSTAMP:20260421T152629Z
DTSTART:20231218T160000Z
DTEND:20231219T010000Z
SUMMARY:Social Media and Open Source Investigations
DESCRIPTION:Law Enforcement Training
Hosted by: Street Cop Training

View event details:
https://www.leo-network.com/event/social-media-and-open-source-investigations-rensselaer-ny-1243/
LOCATION:Rensselaer , NY
URL:https://www.leo-network.com/event/social-media-and-open-source-investigations-rensselaer-ny-1243/
END:VEVENT
END:VCALENDAR
