BEGIN:VCALENDAR
VERSION:2.0
PRODID:-//LEO Network//Training Calendar//EN
BEGIN:VEVENT
UID:event-1244@leo-network.com
DTSTAMP:20260421T135619Z
DTSTART:20230403T150000Z
DTEND:20230404T000000Z
SUMMARY:Cartel Traps 
DESCRIPTION:Law Enforcement Training
Hosted by: Cartel Traps

View event details:
https://www.leo-network.com/event/cartel-traps-daytona-beach-fl-1244/
LOCATION:Daytona Beach, FL
URL:https://www.leo-network.com/event/cartel-traps-daytona-beach-fl-1244/
END:VEVENT
END:VCALENDAR
