BEGIN:VCALENDAR
VERSION:2.0
PRODID:-//LEO Network//Training Calendar//EN
BEGIN:VEVENT
UID:event-1245@leo-network.com
DTSTAMP:20260421T125157Z
DTSTART:20230501T150000Z
DTEND:20230502T000000Z
SUMMARY:Cartel Traps 
DESCRIPTION:Law Enforcement Training
Hosted by: Cartel Traps

View event details:
https://www.leo-network.com/event/cartel-traps-morgantown-wv-1245/
LOCATION:Morgantown, WV
URL:https://www.leo-network.com/event/cartel-traps-morgantown-wv-1245/
END:VEVENT
END:VCALENDAR
