BEGIN:VCALENDAR
VERSION:2.0
PRODID:-//LEO Network//Training Calendar//EN
BEGIN:VEVENT
UID:event-1246@leo-network.com
DTSTAMP:20260421T143410Z
DTSTART:20230515T150000Z
DTEND:20230516T000000Z
SUMMARY:Cartel Traps 
DESCRIPTION:Law Enforcement Training
Hosted by: Cartel Traps

View event details:
https://www.leo-network.com/event/cartel-traps-san-diego-ca-1246/
LOCATION:San Diego, CA
URL:https://www.leo-network.com/event/cartel-traps-san-diego-ca-1246/
END:VEVENT
END:VCALENDAR
