BEGIN:VCALENDAR
VERSION:2.0
PRODID:-//LEO Network//Training Calendar//EN
BEGIN:VEVENT
UID:event-1247@leo-network.com
DTSTAMP:20260422T173022Z
DTSTART:20230821T150000Z
DTEND:20230822T000000Z
SUMMARY:Cartel Traps 
DESCRIPTION:Law Enforcement Training
Hosted by: Cartel Traps

View event details:
https://www.leo-network.com/event/cartel-traps-roland-ok-1247/
LOCATION:Roland, OK
URL:https://www.leo-network.com/event/cartel-traps-roland-ok-1247/
END:VEVENT
END:VCALENDAR
